BEGIN:VCALENDAR
VERSION:2.0
PRODID:-//Bergen Mannskor - ECPv6.15.20//NONSGML v1.0//EN
CALSCALE:GREGORIAN
METHOD:PUBLISH
X-WR-CALNAME:Bergen Mannskor
X-ORIGINAL-URL:https://bergenmannskor.no
X-WR-CALDESC:Arrangement for Bergen Mannskor
REFRESH-INTERVAL;VALUE=DURATION:PT1H
X-Robots-Tag:noindex
X-PUBLISHED-TTL:PT1H
BEGIN:VTIMEZONE
TZID:Europe/Oslo
BEGIN:DAYLIGHT
TZOFFSETFROM:+0100
TZOFFSETTO:+0200
TZNAME:CEST
DTSTART:20250330T010000
END:DAYLIGHT
BEGIN:STANDARD
TZOFFSETFROM:+0200
TZOFFSETTO:+0100
TZNAME:CET
DTSTART:20251026T010000
END:STANDARD
BEGIN:DAYLIGHT
TZOFFSETFROM:+0100
TZOFFSETTO:+0200
TZNAME:CEST
DTSTART:20260329T010000
END:DAYLIGHT
BEGIN:STANDARD
TZOFFSETFROM:+0200
TZOFFSETTO:+0100
TZNAME:CET
DTSTART:20261025T010000
END:STANDARD
BEGIN:DAYLIGHT
TZOFFSETFROM:+0100
TZOFFSETTO:+0200
TZNAME:CEST
DTSTART:20270328T010000
END:DAYLIGHT
BEGIN:STANDARD
TZOFFSETFROM:+0200
TZOFFSETTO:+0100
TZNAME:CET
DTSTART:20271031T010000
END:STANDARD
END:VTIMEZONE
BEGIN:VEVENT
DTSTART;TZID=Europe/Oslo:20260508T170000
DTEND;TZID=Europe/Oslo:20260509T160000
DTSTAMP:20260421T134021
CREATED:20260120T112736Z
LAST-MODIFIED:20260120T112900Z
UID:9195-1778259600-1778342400@bergenmannskor.no
SUMMARY:Korseminar (Tentativt konsert m/Demenskor Vest?)
DESCRIPTION:
URL:https://bergenmannskor.no/bmk-kalender/korseminar-tentativt-konsert-m-demenskor-vest/
LOCATION:Kommer
END:VEVENT
BEGIN:VEVENT
DTSTART;TZID=Europe/Oslo:20260511T180000
DTEND;TZID=Europe/Oslo:20260511T204500
DTSTAMP:20260421T134021
CREATED:20260120T113223Z
LAST-MODIFIED:20260120T113223Z
UID:9200-1778522400-1778532300@bergenmannskor.no
SUMMARY:Sangerhilsen | Åpen øving (B1)
DESCRIPTION:
URL:https://bergenmannskor.no/bmk-kalender/sangerhilsen-apen-oving-b1/
LOCATION:Tertnes videregående skole
END:VEVENT
BEGIN:VEVENT
DTSTART;TZID=Europe/Oslo:20260527T190000
DTEND;TZID=Europe/Oslo:20260527T230000
DTSTAMP:20260421T134021
CREATED:20260323T204108Z
LAST-MODIFIED:20260323T204108Z
UID:9279-1779908400-1779922800@bergenmannskor.no
SUMMARY:Månedsavslutning på Frille og Dyvekes Vinkjeller
DESCRIPTION:Uformelt treff for sangerne på Frille og Dyvekes Vinkjeller
URL:https://bergenmannskor.no/bmk-kalender/manedsavslutning-pa-frille-og-dyvekes-vinkjeller-2/
END:VEVENT
END:VCALENDAR