BEGIN:VCALENDAR
VERSION:2.0
PRODID:-//Bergen Mannskor - ECPv6.15.20//NONSGML v1.0//EN
CALSCALE:GREGORIAN
METHOD:PUBLISH
X-ORIGINAL-URL:https://bergenmannskor.no
X-WR-CALDESC:Arrangement for Bergen Mannskor
REFRESH-INTERVAL;VALUE=DURATION:PT1H
X-Robots-Tag:noindex
X-PUBLISHED-TTL:PT1H
BEGIN:VTIMEZONE
TZID:Europe/Oslo
BEGIN:DAYLIGHT
TZOFFSETFROM:+0100
TZOFFSETTO:+0200
TZNAME:CEST
DTSTART:20230326T010000
END:DAYLIGHT
BEGIN:STANDARD
TZOFFSETFROM:+0200
TZOFFSETTO:+0100
TZNAME:CET
DTSTART:20231029T010000
END:STANDARD
BEGIN:DAYLIGHT
TZOFFSETFROM:+0100
TZOFFSETTO:+0200
TZNAME:CEST
DTSTART:20240331T010000
END:DAYLIGHT
BEGIN:STANDARD
TZOFFSETFROM:+0200
TZOFFSETTO:+0100
TZNAME:CET
DTSTART:20241027T010000
END:STANDARD
BEGIN:DAYLIGHT
TZOFFSETFROM:+0100
TZOFFSETTO:+0200
TZNAME:CEST
DTSTART:20250330T010000
END:DAYLIGHT
BEGIN:STANDARD
TZOFFSETFROM:+0200
TZOFFSETTO:+0100
TZNAME:CET
DTSTART:20251026T010000
END:STANDARD
END:VTIMEZONE
BEGIN:VEVENT
DTSTART;TZID=Europe/Oslo:20241205T190000
DTEND;TZID=Europe/Oslo:20241205T201500
DTSTAMP:20260421T095340
CREATED:20240528T111139Z
LAST-MODIFIED:20241126T195917Z
UID:8867-1733425200-1733429700@bergenmannskor.no
SUMMARY:Adventskonsert
DESCRIPTION:Vår tradisjonelle adventskonsert i Johanneskirken\nUt på jord den store gleda \nBergen mannskor under ledelse av sin dirigent Jon Flydal Blichfeldt inviterer også i år til tradisjonell adventskonsert i Johanneskirken og ønsker å glede sitt publikum med et variert program. Vi har med oss Collegium Vocale Gutter og Collegium Vocale Ung ved v/dirigent Knut Christian Jansson som også trakterer piano og orgel under denne konserten. Sangere fra Osterøykoret medvirker\, samt alter fra flere kor. Programmet kommer til å glede alle som vil komme i julestemning.
URL:https://bergenmannskor.no/bmk-kalender/adventskonsert-5/
LOCATION:Johanneskirken\, Sydnesplassen 5\, Bergen\, Hordaland\, 5007
END:VEVENT
BEGIN:VEVENT
DTSTART;TZID=Europe/Oslo:20241209T180000
DTEND;TZID=Europe/Oslo:20241209T210000
DTSTAMP:20260421T095340
CREATED:20240827T195822Z
LAST-MODIFIED:20240827T195822Z
UID:8921-1733767200-1733778000@bergenmannskor.no
SUMMARY:Åpen øving - Nye og tidligere medlemmer velkommen
DESCRIPTION:Åpen øving med kaffe og kaker i pausen (ca kl 1945-2015).\n2. bassene er ansvarlig for mat og litt underholdning i pausen.
URL:https://bergenmannskor.no/bmk-kalender/apen-oving-nye-og-tidligere-medlemmer-velkommen-2/
LOCATION:Tertnes videregående skole
END:VEVENT
BEGIN:VEVENT
DTSTART;TZID=Europe/Oslo:20241223T220000
DTEND;TZID=Europe/Oslo:20241223T230000
DTSTAMP:20260421T095340
CREATED:20240528T111822Z
LAST-MODIFIED:20241126T194515Z
UID:8871-1734991200-1734994800@bergenmannskor.no
SUMMARY:Julenattskonsert
DESCRIPTION:Velsignet julenatt\nBergen Mannskor ønsker i år velkommen til julenattkonsert i St.Paul kirke kvelden før kvelden. Vi har fått med oss byens beste gitarist – soloartisten og komponisten Mads Eriksen. Sammen håper vi å få frem den helt spesielle julestemingen vi alle lengter etter å oppleve. Vi bidrar med nye og gamle julesanger og gitarklanger som fyller hele det spesielle kirkerommet i St. Paul kirke.
URL:https://bergenmannskor.no/bmk-kalender/julenattskonsert-5/
LOCATION:St. Paul kirke\, Nygårdsgaten 3\, Bergen\, 5015
END:VEVENT
END:VCALENDAR