BEGIN:VCALENDAR
VERSION:2.0
PRODID:-//Bergen Mannskor - ECPv6.15.20//NONSGML v1.0//EN
CALSCALE:GREGORIAN
METHOD:PUBLISH
X-WR-CALNAME:Bergen Mannskor
X-ORIGINAL-URL:https://bergenmannskor.no
X-WR-CALDESC:Arrangement for Bergen Mannskor
REFRESH-INTERVAL;VALUE=DURATION:PT1H
X-Robots-Tag:noindex
X-PUBLISHED-TTL:PT1H
BEGIN:VTIMEZONE
TZID:Europe/Oslo
BEGIN:DAYLIGHT
TZOFFSETFROM:+0100
TZOFFSETTO:+0200
TZNAME:CEST
DTSTART:20230326T010000
END:DAYLIGHT
BEGIN:STANDARD
TZOFFSETFROM:+0200
TZOFFSETTO:+0100
TZNAME:CET
DTSTART:20231029T010000
END:STANDARD
BEGIN:DAYLIGHT
TZOFFSETFROM:+0100
TZOFFSETTO:+0200
TZNAME:CEST
DTSTART:20240331T010000
END:DAYLIGHT
BEGIN:STANDARD
TZOFFSETFROM:+0200
TZOFFSETTO:+0100
TZNAME:CET
DTSTART:20241027T010000
END:STANDARD
BEGIN:DAYLIGHT
TZOFFSETFROM:+0100
TZOFFSETTO:+0200
TZNAME:CEST
DTSTART:20250330T010000
END:DAYLIGHT
BEGIN:STANDARD
TZOFFSETFROM:+0200
TZOFFSETTO:+0100
TZNAME:CET
DTSTART:20251026T010000
END:STANDARD
END:VTIMEZONE
BEGIN:VEVENT
DTSTART;TZID=Europe/Oslo:20241007T181500
DTEND;TZID=Europe/Oslo:20241007T210000
DTSTAMP:20260421T063435
CREATED:20240827T132326Z
LAST-MODIFIED:20240827T195236Z
UID:8900-1728324900-1728334800@bergenmannskor.no
SUMMARY:Åpen øving - Nye og tidligere medlemmer velkommen
DESCRIPTION:Åpen øving med kaffe og kaker i pausen (ca kl 1945-2015).\n2. tenorene er ansvarlig for mat og litt underholdning i pausen.
URL:https://bergenmannskor.no/bmk-kalender/vanlig-oving-med-litt-a-bite-i-i-pausen-tidligere-medlemmer-er-hjertelig-velkommen-2-tenorer-er-ansvarlig-for-mat-og-litt-underholdning-i-pausen/
LOCATION:Tertnes videregående skole
END:VEVENT
BEGIN:VEVENT
DTSTART;TZID=Europe/Oslo:20241020T180000
DTEND;TZID=Europe/Oslo:20241020T190000
DTSTAMP:20260421T063435
CREATED:20240528T110239Z
LAST-MODIFIED:20241007T195816Z
UID:8863-1729447200-1729450800@bergenmannskor.no
SUMMARY:Konsert i Sælen kirke
DESCRIPTION:Kulturdagene i Fyllingsdalen og Laksevåg.\n \n 
URL:https://bergenmannskor.no/bmk-kalender/konsert-i-saelen-kirke/
LOCATION:Sælen kirke\, Vardeveien 9\, Fyllingsdalen\, 5141
END:VEVENT
BEGIN:VEVENT
DTSTART;TZID=Europe/Oslo:20241025T193000
DTEND;TZID=Europe/Oslo:20241025T203000
DTSTAMP:20260421T063435
CREATED:20240528T104936Z
LAST-MODIFIED:20241009T165750Z
UID:8860-1729884600-1729888200@bergenmannskor.no
SUMMARY:Konsert i Kulturhuset i Bergen
DESCRIPTION:
URL:https://bergenmannskor.no/bmk-kalender/konsert-i-kulturhuset-i-bergen/
LOCATION:Kulturhuset i Bergen\, Vaskerelven 8\, Bergen\, 5014
END:VEVENT
END:VCALENDAR