BEGIN:VCALENDAR
VERSION:2.0
PRODID:-//Bergen Mannskor - ECPv6.15.20//NONSGML v1.0//EN
CALSCALE:GREGORIAN
METHOD:PUBLISH
X-ORIGINAL-URL:https://bergenmannskor.no
X-WR-CALDESC:Arrangement for Bergen Mannskor
REFRESH-INTERVAL;VALUE=DURATION:PT1H
X-Robots-Tag:noindex
X-PUBLISHED-TTL:PT1H
BEGIN:VTIMEZONE
TZID:Europe/Oslo
BEGIN:DAYLIGHT
TZOFFSETFROM:+0100
TZOFFSETTO:+0200
TZNAME:CEST
DTSTART:20190331T010000
END:DAYLIGHT
BEGIN:STANDARD
TZOFFSETFROM:+0200
TZOFFSETTO:+0100
TZNAME:CET
DTSTART:20191027T010000
END:STANDARD
BEGIN:DAYLIGHT
TZOFFSETFROM:+0100
TZOFFSETTO:+0200
TZNAME:CEST
DTSTART:20200329T010000
END:DAYLIGHT
BEGIN:STANDARD
TZOFFSETFROM:+0200
TZOFFSETTO:+0100
TZNAME:CET
DTSTART:20201025T010000
END:STANDARD
BEGIN:DAYLIGHT
TZOFFSETFROM:+0100
TZOFFSETTO:+0200
TZNAME:CEST
DTSTART:20210328T010000
END:DAYLIGHT
BEGIN:STANDARD
TZOFFSETFROM:+0200
TZOFFSETTO:+0100
TZNAME:CET
DTSTART:20211031T010000
END:STANDARD
END:VTIMEZONE
BEGIN:VEVENT
DTSTART;TZID=Europe/Oslo:20200815T100000
DTEND;TZID=Europe/Oslo:20200815T190000
DTSTAMP:20260419T213712
CREATED:20200617T092310Z
LAST-MODIFIED:20200617T092310Z
UID:184-1597485600-1597518000@bergenmannskor.no
SUMMARY:Nettside launch
DESCRIPTION:Den nye nettsiden kommer offentlig!
URL:https://bergenmannskor.no/bmk-kalender/nettside-launch/
LOCATION:Bergen\, Vestland\, Norge
END:VEVENT
BEGIN:VEVENT
DTSTART;TZID=Europe/Oslo:20200828T170000
DTEND;TZID=Europe/Oslo:20200828T200000
DTSTAMP:20260419T213712
CREATED:20200818T135401Z
LAST-MODIFIED:20200818T140506Z
UID:552-1598634000-1598644800@bergenmannskor.no
SUMMARY:Oppstartseminar\, dag 1
DESCRIPTION:Ankomst fra 1700\nØving 1800 – 2000 \nMiddag 2000-?\n\n \nHei alle\,\nVedlagt ligger påmelding til seminaret 28-29 august\, med retur innen 1 august.\nDette blir kun seminar – årsfesten kommer i november.\nVedlegget er et Excel-ark med info om seminaret\, men dere kan svare med … \nEnkeltrom           kr 1.295\nDobbeltrom        kr 1.960\nIngen rom           reiser hjem \nFRANK\n20200712_BM_Seminar 28-29 august Suitellet
URL:https://bergenmannskor.no/bmk-kalender/oppstartseminar/
LOCATION:Quality Hotel Edvard Grieg\, Quality Hotel Edvard Grieg Sandsliåsen 50\, Bergen\, 5254
END:VEVENT
BEGIN:VEVENT
DTSTART;TZID=Europe/Oslo:20200829T090000
DTEND;TZID=Europe/Oslo:20200829T170000
DTSTAMP:20260419T213712
CREATED:20200818T135456Z
LAST-MODIFIED:20200818T140413Z
UID:556-1598691600-1598720400@bergenmannskor.no
SUMMARY:Oppstartseminar\, dag 2
DESCRIPTION:Frokost 0700 – 0900\n\nØving 0900 – 1200  \n\nLunch 1200 – 1245\n\nØving 1245 – 1530  \n\nKaffe\, te\, frukt\, tebrød 1530-1545\n\nØving 1545 – 1730
URL:https://bergenmannskor.no/bmk-kalender/oppstartseminar-dag-2/
LOCATION:Quality Hotel Edvard Grieg\, Quality Hotel Edvard Grieg Sandsliåsen 50\, Bergen\, 5254
END:VEVENT
END:VCALENDAR