BEGIN:VCALENDAR
VERSION:2.0
PRODID:-//Bergen Mannskor - ECPv6.15.20//NONSGML v1.0//EN
CALSCALE:GREGORIAN
METHOD:PUBLISH
X-ORIGINAL-URL:https://bergenmannskor.no
X-WR-CALDESC:Arrangement for Bergen Mannskor
REFRESH-INTERVAL;VALUE=DURATION:PT1H
X-Robots-Tag:noindex
X-PUBLISHED-TTL:PT1H
BEGIN:VTIMEZONE
TZID:Europe/Oslo
BEGIN:DAYLIGHT
TZOFFSETFROM:+0100
TZOFFSETTO:+0200
TZNAME:CEST
DTSTART:20250330T010000
END:DAYLIGHT
BEGIN:STANDARD
TZOFFSETFROM:+0200
TZOFFSETTO:+0100
TZNAME:CET
DTSTART:20251026T010000
END:STANDARD
BEGIN:DAYLIGHT
TZOFFSETFROM:+0100
TZOFFSETTO:+0200
TZNAME:CEST
DTSTART:20260329T010000
END:DAYLIGHT
BEGIN:STANDARD
TZOFFSETFROM:+0200
TZOFFSETTO:+0100
TZNAME:CET
DTSTART:20261025T010000
END:STANDARD
BEGIN:DAYLIGHT
TZOFFSETFROM:+0100
TZOFFSETTO:+0200
TZNAME:CEST
DTSTART:20270328T010000
END:DAYLIGHT
BEGIN:STANDARD
TZOFFSETFROM:+0200
TZOFFSETTO:+0100
TZNAME:CET
DTSTART:20271031T010000
END:STANDARD
END:VTIMEZONE
BEGIN:VEVENT
DTSTART;TZID=Europe/Oslo:20261029T180000
DTEND;TZID=Europe/Oslo:20261029T200000
DTSTAMP:20260421T224001
CREATED:20260121T121841Z
LAST-MODIFIED:20260121T130112Z
UID:9242-1793296800-1793304000@bergenmannskor.no
SUMMARY:Felleskonsert med Fana mannskor\, Arme Riddere\, Follesø mannskor
DESCRIPTION:tekst her – tekst her – tekst her – tekst her – tekst her – tekst her – tekst her\n    \n   \n \n  \n  \n  \n  \n  \n  \n  \n  \n       
URL:https://bergenmannskor.no/bmk-kalender/felleskonsert-med-fana-mannskor-arme-riddere-folleso-mannskor/
LOCATION:Universitetsaulaen i Bergen\, Muséplass 3\, Bergen\, 5007\, Norge
END:VEVENT
END:VCALENDAR