BEGIN:VCALENDAR
VERSION:2.0
PRODID:-//Bergen Mannskor - ECPv6.15.20//NONSGML v1.0//EN
CALSCALE:GREGORIAN
METHOD:PUBLISH
X-ORIGINAL-URL:https://bergenmannskor.no
X-WR-CALDESC:Arrangement for Bergen Mannskor
REFRESH-INTERVAL;VALUE=DURATION:PT1H
X-Robots-Tag:noindex
X-PUBLISHED-TTL:PT1H
BEGIN:VTIMEZONE
TZID:Europe/Oslo
BEGIN:DAYLIGHT
TZOFFSETFROM:+0100
TZOFFSETTO:+0200
TZNAME:CEST
DTSTART:20240331T010000
END:DAYLIGHT
BEGIN:STANDARD
TZOFFSETFROM:+0200
TZOFFSETTO:+0100
TZNAME:CET
DTSTART:20241027T010000
END:STANDARD
BEGIN:DAYLIGHT
TZOFFSETFROM:+0100
TZOFFSETTO:+0200
TZNAME:CEST
DTSTART:20250330T010000
END:DAYLIGHT
BEGIN:STANDARD
TZOFFSETFROM:+0200
TZOFFSETTO:+0100
TZNAME:CET
DTSTART:20251026T010000
END:STANDARD
BEGIN:DAYLIGHT
TZOFFSETFROM:+0100
TZOFFSETTO:+0200
TZNAME:CEST
DTSTART:20260329T010000
END:DAYLIGHT
BEGIN:STANDARD
TZOFFSETFROM:+0200
TZOFFSETTO:+0100
TZNAME:CET
DTSTART:20261025T010000
END:STANDARD
END:VTIMEZONE
BEGIN:VEVENT
DTSTART;VALUE=DATE:20250307
DTEND;VALUE=DATE:20250309
DTSTAMP:20260421T174300
CREATED:20240930T181413Z
LAST-MODIFIED:20250106T122004Z
UID:8940-1741305600-1741478399@bergenmannskor.no
SUMMARY:Syng for oss 2025
DESCRIPTION:SYNG FOR OSS er korkonkurransen som kun kårer vinnere. Arrangementet er åpent for kor også utenfor Hordaland\, og vi tror dette er et tilbud som både er gøy og utviklende. Det er ingen rangering av deltakere – kun premiering\, og alle kor får skriftlige tilbakemeldinger fra dommerne.\nGod stemning\, musikalsk utfordring og sosialt samvær! \nHva: Korkonkurranse med to klasser: Åpen klasse lørdag 8. mars (obligatorisk) og sakral klasse fredag 7. mars.\nSted: Grieghallen og Bergen Domkirke. \nBergen mannskor skal delta i begge klasser \n       
URL:https://bergenmannskor.no/bmk-kalender/syng-for-oss-2025/
LOCATION:Grieghallen\, Edvard Griegsplass 1\, Bergen\, Hordaland\, 5015\, Norge
ORGANIZER;CN="Norges Korforbund Hordaland":MAILTO:nk-hordaland@korforbundet.no
END:VEVENT
END:VCALENDAR