BEGIN:VCALENDAR
VERSION:2.0
PRODID:-//Bergen Mannskor - ECPv6.15.20//NONSGML v1.0//EN
CALSCALE:GREGORIAN
METHOD:PUBLISH
X-ORIGINAL-URL:https://bergenmannskor.no
X-WR-CALDESC:Arrangement for Bergen Mannskor
REFRESH-INTERVAL;VALUE=DURATION:PT1H
X-Robots-Tag:noindex
X-PUBLISHED-TTL:PT1H
BEGIN:VTIMEZONE
TZID:Europe/Oslo
BEGIN:DAYLIGHT
TZOFFSETFROM:+0100
TZOFFSETTO:+0200
TZNAME:CEST
DTSTART:20230326T010000
END:DAYLIGHT
BEGIN:STANDARD
TZOFFSETFROM:+0200
TZOFFSETTO:+0100
TZNAME:CET
DTSTART:20231029T010000
END:STANDARD
BEGIN:DAYLIGHT
TZOFFSETFROM:+0100
TZOFFSETTO:+0200
TZNAME:CEST
DTSTART:20240331T010000
END:DAYLIGHT
BEGIN:STANDARD
TZOFFSETFROM:+0200
TZOFFSETTO:+0100
TZNAME:CET
DTSTART:20241027T010000
END:STANDARD
BEGIN:DAYLIGHT
TZOFFSETFROM:+0100
TZOFFSETTO:+0200
TZNAME:CEST
DTSTART:20250330T010000
END:DAYLIGHT
BEGIN:STANDARD
TZOFFSETFROM:+0200
TZOFFSETTO:+0100
TZNAME:CET
DTSTART:20251026T010000
END:STANDARD
END:VTIMEZONE
BEGIN:VEVENT
DTSTART;TZID=Europe/Oslo:20240615T120000
DTEND;TZID=Europe/Oslo:20240615T140000
DTSTAMP:20260421T013323
CREATED:20240528T102802Z
LAST-MODIFIED:20240611T061812Z
UID:8844-1718452800-1718460000@bergenmannskor.no
SUMMARY:Gatesynging under Torgdagen i Bergen
DESCRIPTION:Bergen mannskor synger rundt omkring i gater og smau på torgdagen i Bergen.
URL:https://bergenmannskor.no/bmk-kalender/gatesynging-under-torgdagen-i-bergen/
LOCATION:Bergen\, Vestland\, Norge
ORGANIZER;CN="Torgdagen":MAILTO:post@kystkultur.no
END:VEVENT
END:VCALENDAR