BEGIN:VCALENDAR
VERSION:2.0
PRODID:-//Bergen Mannskor - ECPv6.15.20//NONSGML v1.0//EN
CALSCALE:GREGORIAN
METHOD:PUBLISH
X-WR-CALNAME:Bergen Mannskor
X-ORIGINAL-URL:https://bergenmannskor.no
X-WR-CALDESC:Arrangement for Bergen Mannskor
REFRESH-INTERVAL;VALUE=DURATION:PT1H
X-Robots-Tag:noindex
X-PUBLISHED-TTL:PT1H
BEGIN:VTIMEZONE
TZID:Europe/Oslo
BEGIN:DAYLIGHT
TZOFFSETFROM:+0100
TZOFFSETTO:+0200
TZNAME:CEST
DTSTART:20220327T010000
END:DAYLIGHT
BEGIN:STANDARD
TZOFFSETFROM:+0200
TZOFFSETTO:+0100
TZNAME:CET
DTSTART:20221030T010000
END:STANDARD
BEGIN:DAYLIGHT
TZOFFSETFROM:+0100
TZOFFSETTO:+0200
TZNAME:CEST
DTSTART:20230326T010000
END:DAYLIGHT
BEGIN:STANDARD
TZOFFSETFROM:+0200
TZOFFSETTO:+0100
TZNAME:CET
DTSTART:20231029T010000
END:STANDARD
BEGIN:DAYLIGHT
TZOFFSETFROM:+0100
TZOFFSETTO:+0200
TZNAME:CEST
DTSTART:20240331T010000
END:DAYLIGHT
BEGIN:STANDARD
TZOFFSETFROM:+0200
TZOFFSETTO:+0100
TZNAME:CET
DTSTART:20241027T010000
END:STANDARD
END:VTIMEZONE
BEGIN:VEVENT
DTSTART;TZID=Europe/Oslo:20230908T180000
DTEND;TZID=Europe/Oslo:20230908T230000
DTSTAMP:20260420T180356
CREATED:20230509T140211Z
LAST-MODIFIED:20230509T150451Z
UID:8739-1694196000-1694214000@bergenmannskor.no
SUMMARY:Kulturnatt Bergen
DESCRIPTION:Gratiskonserter i Bergen sentrum\, følg med på Kulturnattens egne websider for komplett program
URL:https://bergenmannskor.no/bmk-kalender/kulturnatt-bergen/
LOCATION:Bergen\, Vestland\, Norge
END:VEVENT
END:VCALENDAR