BEGIN:VCALENDAR
VERSION:2.0
PRODID:-//Bergen Mannskor - ECPv6.15.20//NONSGML v1.0//EN
CALSCALE:GREGORIAN
METHOD:PUBLISH
X-ORIGINAL-URL:https://bergenmannskor.no
X-WR-CALDESC:Arrangement for Bergen Mannskor
REFRESH-INTERVAL;VALUE=DURATION:PT1H
X-Robots-Tag:noindex
X-PUBLISHED-TTL:PT1H
BEGIN:VTIMEZONE
TZID:Europe/Oslo
BEGIN:DAYLIGHT
TZOFFSETFROM:+0100
TZOFFSETTO:+0200
TZNAME:CEST
DTSTART:20210328T010000
END:DAYLIGHT
BEGIN:STANDARD
TZOFFSETFROM:+0200
TZOFFSETTO:+0100
TZNAME:CET
DTSTART:20211031T010000
END:STANDARD
BEGIN:DAYLIGHT
TZOFFSETFROM:+0100
TZOFFSETTO:+0200
TZNAME:CEST
DTSTART:20220327T010000
END:DAYLIGHT
BEGIN:STANDARD
TZOFFSETFROM:+0200
TZOFFSETTO:+0100
TZNAME:CET
DTSTART:20221030T010000
END:STANDARD
BEGIN:DAYLIGHT
TZOFFSETFROM:+0100
TZOFFSETTO:+0200
TZNAME:CEST
DTSTART:20230326T010000
END:DAYLIGHT
BEGIN:STANDARD
TZOFFSETFROM:+0200
TZOFFSETTO:+0100
TZNAME:CET
DTSTART:20231029T010000
END:STANDARD
END:VTIMEZONE
BEGIN:VEVENT
DTSTART;VALUE=DATE:20220521
DTEND;VALUE=DATE:20220522
DTSTAMP:20260420T103507
CREATED:20220214T152623Z
LAST-MODIFIED:20220214T152623Z
UID:8475-1653091200-1653177599@bergenmannskor.no
SUMMARY:Mannskorgilde?
DESCRIPTION:NKH vurdere å arrangere et mannskorgilde i Grieghallen \nMer info om dette kommer plutselig!
URL:https://bergenmannskor.no/bmk-kalender/mannskorgilde/
LOCATION:Grieghallen\, Edvard Griegsplass 1\, Bergen\, Hordaland\, 5015\, Norge
ORGANIZER;CN="Norges Korforbund Hordaland":MAILTO:nk-hordaland@korforbundet.no
END:VEVENT
END:VCALENDAR