BEGIN:VCALENDAR
VERSION:2.0
PRODID:-//Bergen Mannskor - ECPv6.15.20//NONSGML v1.0//EN
CALSCALE:GREGORIAN
METHOD:PUBLISH
X-WR-CALNAME:Bergen Mannskor
X-ORIGINAL-URL:https://bergenmannskor.no
X-WR-CALDESC:Arrangement for Bergen Mannskor
REFRESH-INTERVAL;VALUE=DURATION:PT1H
X-Robots-Tag:noindex
X-PUBLISHED-TTL:PT1H
BEGIN:VTIMEZONE
TZID:Europe/Oslo
BEGIN:DAYLIGHT
TZOFFSETFROM:+0100
TZOFFSETTO:+0200
TZNAME:CEST
DTSTART:20190331T010000
END:DAYLIGHT
BEGIN:STANDARD
TZOFFSETFROM:+0200
TZOFFSETTO:+0100
TZNAME:CET
DTSTART:20191027T010000
END:STANDARD
BEGIN:DAYLIGHT
TZOFFSETFROM:+0100
TZOFFSETTO:+0200
TZNAME:CEST
DTSTART:20200329T010000
END:DAYLIGHT
BEGIN:STANDARD
TZOFFSETFROM:+0200
TZOFFSETTO:+0100
TZNAME:CET
DTSTART:20201025T010000
END:STANDARD
BEGIN:DAYLIGHT
TZOFFSETFROM:+0100
TZOFFSETTO:+0200
TZNAME:CEST
DTSTART:20210328T010000
END:DAYLIGHT
BEGIN:STANDARD
TZOFFSETFROM:+0200
TZOFFSETTO:+0100
TZNAME:CET
DTSTART:20211031T010000
END:STANDARD
END:VTIMEZONE
BEGIN:VEVENT
DTSTART;TZID=Europe/Oslo:20201219T180000
DTEND;TZID=Europe/Oslo:20201219T200000
DTSTAMP:20260419T160903
CREATED:20200831T110927Z
LAST-MODIFIED:20201005T195244Z
UID:624-1608400800-1608408000@bergenmannskor.no
SUMMARY:Kansellert: Adventskonsert med Tertnes amatørkorps
DESCRIPTION:For første gang arrangerer Bergen mannskor konsert sammen med Tertnes amatørkorps. \nHer blir det altså både mannskorsang\, brassmusikk og fellesnumre…. Mer info etterhvert
URL:https://bergenmannskor.no/bmk-kalender/adventskonsert-med-tertnes-amatorkorps/
LOCATION:Åsane kirke\, Åsane senter 44\, Bergen\, Hordaland\, 5116
END:VEVENT
END:VCALENDAR